BEGIN:VCALENDAR
VERSION:2.0
PRODID:-//wienstation - ECPv6.15.18//NONSGML v1.0//EN
CALSCALE:GREGORIAN
METHOD:PUBLISH
X-WR-CALNAME:wienstation
X-ORIGINAL-URL:https://wienstation.at
X-WR-CALDESC:Veranstaltungen für wienstation
REFRESH-INTERVAL;VALUE=DURATION:PT1H
X-Robots-Tag:noindex
X-PUBLISHED-TTL:PT1H
BEGIN:VTIMEZONE
TZID:Europe/Vienna
BEGIN:DAYLIGHT
TZOFFSETFROM:+0100
TZOFFSETTO:+0200
TZNAME:CEST
DTSTART:20240331T010000
END:DAYLIGHT
BEGIN:STANDARD
TZOFFSETFROM:+0200
TZOFFSETTO:+0100
TZNAME:CET
DTSTART:20241027T010000
END:STANDARD
BEGIN:DAYLIGHT
TZOFFSETFROM:+0100
TZOFFSETTO:+0200
TZNAME:CEST
DTSTART:20250330T010000
END:DAYLIGHT
BEGIN:STANDARD
TZOFFSETFROM:+0200
TZOFFSETTO:+0100
TZNAME:CET
DTSTART:20251026T010000
END:STANDARD
BEGIN:DAYLIGHT
TZOFFSETFROM:+0100
TZOFFSETTO:+0200
TZNAME:CEST
DTSTART:20260329T010000
END:DAYLIGHT
BEGIN:STANDARD
TZOFFSETFROM:+0200
TZOFFSETTO:+0100
TZNAME:CET
DTSTART:20261025T010000
END:STANDARD
END:VTIMEZONE
BEGIN:VEVENT
DTSTART;TZID=Europe/Vienna:20250619T140000
DTEND;TZID=Europe/Vienna:20250619T180000
DTSTAMP:20260420T030728
CREATED:20250517T071839Z
LAST-MODIFIED:20250619T083302Z
UID:167-1750341600-1750356000@wienstation.at
SUMMARY:wienstation x Kedlkate Channel
DESCRIPTION:wienstation x Kedlkate Channel\n+ DJ Ness T\, El Caliente\, Lizanne\n19.06.2025\n14:00 – 18:00\nhttps://wienstation.at/wp-content/uploads/2025/05/kedlkate_edit_3.mp4\nBitte beachten den [ DISCLAIMER ] wenn du Interesse an diesem Event hast. \nAm Donnerstag von 14–18 Uhr ist es soweit:\nKedlkatechannel goes Wienstation 🎧🎥 \nWir nehmen wieder B2B DJ Sets für YouTube auf – mit dabei:\nDJ Ness T (House)\, Lizanne & El Caliente (Hardgroove zum Abend hin) 🔥 \n📍 Location: Wienstation\n🌿 Mit Chill-Outdoor-Bereich\n🪑 Drinnen: Musik\, Sitzen\, Tanzen\n💧 Zerstäuber für Abkühlung\, falls es heiß ist 😎 \n‼️ Keine Sorge: Es gibt Kamera-freie Bereiche – niemand muss ins Video\, der nicht will. \n🎨 Und: „kaputter“ stellt coole Tattoo-Artworks aus! \n#KKC – DJ Ness T\n \n#KKC – El Caliente\n \n#KKC – Lizanne\n\n[ DISCLAIMER ] Diese Veranstaltung wird live vor Publikum aufgezeichnet\, bei Teilnahme der Veranstaltung wird der Produktion das Recht ein\, Ton-\, Film- und Fotoaufnahmen (nachfolgend „Aufnahmen“ genannt) von meiner Person im Rahmen der gesamten Produktion zu machen und bin damit einverstanden\, dass diese zum genannten Zweck und wie aufgeführt veröffentlicht werden. Aus der Zustimmung zu dieser Veröffentlichung leite ich keine Rechte ab. Ich gestatte dem Produktionsteam das aufgenommene Material unter Wahrung der (Urheber-) Persönlichkeitsrechte ganz oder teilweise zu bearbeiten\, umzugestalten\, zu kürzen\, zu synchronisieren oder in andere Werkformen zu übertragen und zu archivieren. Dieses Recht ist räumlich\, zeitlich und inhaltlich unbeschränkt. Als teilnehmende Person bestätige\, dass alle im Zusammenhang mit den Aufnahmen preisgegebenen personenbezogenen Daten einschließlich Ton/Bild/Ton-Bild-Aufnahmen meiner Person für die Veröffentlichung gedacht sind und ab Veröffentlichung als öffentlich bzw. allgemein verfügbar gelten. Bis zur Veröffentlichung steht mir im gesetzlichen Umfang das Recht auf Auskunft\, Berichtigung\, Löschung\, Einschränkung der Datenverarbeitung\, Datenübertragbarkeit\, Widerspruch und Widerruf zu. [ /DISCLAIMER ]
URL:https://wienstation.at/event/wienstation-x-kedlkate-channel/
LOCATION:wienstation\, U-Bahn-Bogen 28\, Wien\, Wien\, 1080\, Austria
CATEGORIES:Club,Daytime,DJ,Recordingsession
ATTACH;FMTTYPE=image/jpeg:https://wienstation.at/wp-content/uploads/2025/05/keklkatebanner.jpg
END:VEVENT
END:VCALENDAR