BEGIN:VCALENDAR
VERSION:2.0
PRODID:-//wienstation - ECPv6.15.18//NONSGML v1.0//EN
CALSCALE:GREGORIAN
METHOD:PUBLISH
X-ORIGINAL-URL:https://wienstation.at
X-WR-CALDESC:Veranstaltungen für wienstation
REFRESH-INTERVAL;VALUE=DURATION:PT1H
X-Robots-Tag:noindex
X-PUBLISHED-TTL:PT1H
BEGIN:VTIMEZONE
TZID:Europe/Vienna
BEGIN:DAYLIGHT
TZOFFSETFROM:+0100
TZOFFSETTO:+0200
TZNAME:CEST
DTSTART:20240331T010000
END:DAYLIGHT
BEGIN:STANDARD
TZOFFSETFROM:+0200
TZOFFSETTO:+0100
TZNAME:CET
DTSTART:20241027T010000
END:STANDARD
BEGIN:DAYLIGHT
TZOFFSETFROM:+0100
TZOFFSETTO:+0200
TZNAME:CEST
DTSTART:20250330T010000
END:DAYLIGHT
BEGIN:STANDARD
TZOFFSETFROM:+0200
TZOFFSETTO:+0100
TZNAME:CET
DTSTART:20251026T010000
END:STANDARD
BEGIN:DAYLIGHT
TZOFFSETFROM:+0100
TZOFFSETTO:+0200
TZNAME:CEST
DTSTART:20260329T010000
END:DAYLIGHT
BEGIN:STANDARD
TZOFFSETFROM:+0200
TZOFFSETTO:+0100
TZNAME:CET
DTSTART:20261025T010000
END:STANDARD
END:VTIMEZONE
BEGIN:VEVENT
DTSTART;TZID=Europe/Vienna:20251025T080000
DTEND;TZID=Europe/Vienna:20251025T170000
DTSTAMP:20260419T210627
CREATED:20251025T135342Z
LAST-MODIFIED:20251025T135444Z
UID:495-1761379200-1761411600@wienstation.at
SUMMARY:Gürtel Connection #17 /w Stalinsky\, Natalox\, Grusel Gunther
DESCRIPTION:stalinsky · Sundeck Bratislava – BRAWI X BUNTERGRUND  – STALINSKY\n \nnatalox · Natalox’ Banger Feuerwerk\n \nGrusel Gunther · Erker Garage
URL:https://wienstation.at/event/guertel-connection-17-w-stalinsky-natalox-grusel-gunther/
LOCATION:wienstation\, U-Bahn-Bogen 28\, Wien\, Wien\, 1080\, Austria
CATEGORIES:Club,DJ
END:VEVENT
END:VCALENDAR