BEGIN:VCALENDAR
VERSION:2.0
PRODID:-//wienstation - ECPv6.15.18//NONSGML v1.0//EN
CALSCALE:GREGORIAN
METHOD:PUBLISH
X-WR-CALNAME:wienstation
X-ORIGINAL-URL:https://wienstation.at
X-WR-CALDESC:Veranstaltungen für wienstation
REFRESH-INTERVAL;VALUE=DURATION:PT1H
X-Robots-Tag:noindex
X-PUBLISHED-TTL:PT1H
BEGIN:VTIMEZONE
TZID:Europe/Vienna
BEGIN:DAYLIGHT
TZOFFSETFROM:+0100
TZOFFSETTO:+0200
TZNAME:CEST
DTSTART:20240331T010000
END:DAYLIGHT
BEGIN:STANDARD
TZOFFSETFROM:+0200
TZOFFSETTO:+0100
TZNAME:CET
DTSTART:20241027T010000
END:STANDARD
BEGIN:DAYLIGHT
TZOFFSETFROM:+0100
TZOFFSETTO:+0200
TZNAME:CEST
DTSTART:20250330T010000
END:DAYLIGHT
BEGIN:STANDARD
TZOFFSETFROM:+0200
TZOFFSETTO:+0100
TZNAME:CET
DTSTART:20251026T010000
END:STANDARD
BEGIN:DAYLIGHT
TZOFFSETFROM:+0100
TZOFFSETTO:+0200
TZNAME:CEST
DTSTART:20260329T010000
END:DAYLIGHT
BEGIN:STANDARD
TZOFFSETFROM:+0200
TZOFFSETTO:+0100
TZNAME:CET
DTSTART:20261025T010000
END:STANDARD
END:VTIMEZONE
BEGIN:VEVENT
DTSTART;TZID=Europe/Vienna:20251106T170000
DTEND;TZID=Europe/Vienna:20251106T220000
DTSTAMP:20260419T192737
CREATED:20251105T163735Z
LAST-MODIFIED:20251105T164923Z
UID:500-1762448400-1762466400@wienstation.at
SUMMARY:# 4 Der Donnerstag /w DJ REEN & Carlo Azad
DESCRIPTION:schirin jamie · es kommt flamine\n \ncarlo azad · PSYGROOVE TECHNO SET
URL:https://wienstation.at/event/4-der-donnerstag-w-dj-reen-carlo-azad/
LOCATION:wienstation\, U-Bahn-Bogen 28\, Wien\, Wien\, 1080\, Austria
CATEGORIES:Der Donnerstag,DJ
ORGANIZER;CN="wienstation":MAILTO:office@wienstation.at
END:VEVENT
END:VCALENDAR