BEGIN:VCALENDAR
VERSION:2.0
PRODID:-//wienstation - ECPv6.15.18//NONSGML v1.0//EN
CALSCALE:GREGORIAN
METHOD:PUBLISH
X-ORIGINAL-URL:https://wienstation.at
X-WR-CALDESC:Veranstaltungen für wienstation
REFRESH-INTERVAL;VALUE=DURATION:PT1H
X-Robots-Tag:noindex
X-PUBLISHED-TTL:PT1H
BEGIN:VTIMEZONE
TZID:Europe/Vienna
BEGIN:DAYLIGHT
TZOFFSETFROM:+0100
TZOFFSETTO:+0200
TZNAME:CEST
DTSTART:20240331T010000
END:DAYLIGHT
BEGIN:STANDARD
TZOFFSETFROM:+0200
TZOFFSETTO:+0100
TZNAME:CET
DTSTART:20241027T010000
END:STANDARD
BEGIN:DAYLIGHT
TZOFFSETFROM:+0100
TZOFFSETTO:+0200
TZNAME:CEST
DTSTART:20250330T010000
END:DAYLIGHT
BEGIN:STANDARD
TZOFFSETFROM:+0200
TZOFFSETTO:+0100
TZNAME:CET
DTSTART:20251026T010000
END:STANDARD
BEGIN:DAYLIGHT
TZOFFSETFROM:+0100
TZOFFSETTO:+0200
TZNAME:CEST
DTSTART:20260329T010000
END:DAYLIGHT
BEGIN:STANDARD
TZOFFSETFROM:+0200
TZOFFSETTO:+0100
TZNAME:CET
DTSTART:20261025T010000
END:STANDARD
END:VTIMEZONE
BEGIN:VEVENT
DTSTART;TZID=Europe/Vienna:20250531T220000
DTEND;TZID=Europe/Vienna:20250601T040000
DTSTAMP:20260420T014248
CREATED:20250517T082527Z
LAST-MODIFIED:20250605T144250Z
UID:192-1748728800-1748750400@wienstation.at
SUMMARY:sama recordings pres. schweben | samatape016 release presentation
DESCRIPTION:Sama Recordings – founded 2014 in Vienna by Benedikt Guschlbauer – is an independent record label for advanced audio aspects free of aesthetic or genre-based borders and stands for forward thinking music\, which enriches body\, soul and mind. \nsama recordings pres. schweben\nSaturday\, May 31st\, 2025 \nw/ \nLuca Carlotta ( dj set ) \nNatasha Morena ( live )\nsamatape016 release presentation\nUnaware [samatape016] \nA_phan ( live ) \nKlirren ( dj set ) \nWelia ( dj set ) \nfunded by Stadt Wien | Kultur
URL:https://wienstation.at/event/sama-recordings-pres-schweben/
LOCATION:wienstation\, U-Bahn-Bogen 28\, Wien\, Wien\, 1080\, Austria
CATEGORIES:Club,DJ,Konzert,Labelevent,Liveset,Releaseparty
ATTACH;FMTTYPE=image/jpeg:https://wienstation.at/wp-content/uploads/2025/05/310525_schweben.jpg
END:VEVENT
BEGIN:VEVENT
DTSTART;TZID=Europe/Vienna:20250603T150000
DTEND;TZID=Europe/Vienna:20250603T200000
DTSTAMP:20260420T014248
CREATED:20250517T085730Z
LAST-MODIFIED:20250517T092719Z
UID:212-1748962800-1748980800@wienstation.at
SUMMARY:Geöffnet - 03.06.2025
DESCRIPTION:
URL:https://wienstation.at/event/geoeffnet-03-06-2025/
LOCATION:wienstation\, U-Bahn-Bogen 28\, Wien\, Wien\, 1080\, Austria
CATEGORIES:Daytime
ATTACH;FMTTYPE=image/jpeg:https://wienstation.at/wp-content/uploads/2025/05/wienstation_glasfront_schriftzug-scaled.jpg
ORGANIZER;CN="wienstation":MAILTO:office@wienstation.at
END:VEVENT
BEGIN:VEVENT
DTSTART;TZID=Europe/Vienna:20250604T150000
DTEND;TZID=Europe/Vienna:20250604T200000
DTSTAMP:20260420T014248
CREATED:20250517T085837Z
LAST-MODIFIED:20250517T092741Z
UID:215-1749049200-1749067200@wienstation.at
SUMMARY:Geöffnet - 04.06.2025
DESCRIPTION:
URL:https://wienstation.at/event/geoeffnet-04-06-2025/
LOCATION:wienstation\, U-Bahn-Bogen 28\, Wien\, Wien\, 1080\, Austria
CATEGORIES:Daytime
ATTACH;FMTTYPE=image/jpeg:https://wienstation.at/wp-content/uploads/2025/05/wienstation_glasfront_schriftzug-scaled.jpg
ORGANIZER;CN="wienstation":MAILTO:office@wienstation.at
END:VEVENT
BEGIN:VEVENT
DTSTART;TZID=Europe/Vienna:20250605T150000
DTEND;TZID=Europe/Vienna:20250605T200000
DTSTAMP:20260420T014248
CREATED:20250517T085944Z
LAST-MODIFIED:20250517T092759Z
UID:217-1749135600-1749153600@wienstation.at
SUMMARY:Geöffnet - 05.06.2025
DESCRIPTION:
URL:https://wienstation.at/event/geoeffnet-05-06-2025/
LOCATION:wienstation\, U-Bahn-Bogen 28\, Wien\, Wien\, 1080\, Austria
CATEGORIES:Daytime
ATTACH;FMTTYPE=image/jpeg:https://wienstation.at/wp-content/uploads/2025/05/wienstation_glasfront_schriftzug-scaled.jpg
ORGANIZER;CN="wienstation":MAILTO:office@wienstation.at
END:VEVENT
BEGIN:VEVENT
DTSTART;TZID=Europe/Vienna:20250606T150000
DTEND;TZID=Europe/Vienna:20250606T200000
DTSTAMP:20260420T014248
CREATED:20250517T090047Z
LAST-MODIFIED:20250605T144343Z
UID:219-1749222000-1749240000@wienstation.at
SUMMARY:Geschlossen - 06.06.2025
DESCRIPTION:
URL:https://wienstation.at/event/geoeffnet-06-06-2025/
LOCATION:wienstation\, U-Bahn-Bogen 28\, Wien\, Wien\, 1080\, Austria
CATEGORIES:Daytime
ATTACH;FMTTYPE=image/jpeg:https://wienstation.at/wp-content/uploads/2025/05/wienstation_glasfront_schriftzug-scaled.jpg
ORGANIZER;CN="wienstation":MAILTO:office@wienstation.at
END:VEVENT
BEGIN:VEVENT
DTSTART;TZID=Europe/Vienna:20250610T150000
DTEND;TZID=Europe/Vienna:20250610T200000
DTSTAMP:20260420T014248
CREATED:20250517T090742Z
LAST-MODIFIED:20250517T092834Z
UID:223-1749567600-1749585600@wienstation.at
SUMMARY:Geöffnet - 10.06.2025
DESCRIPTION:
URL:https://wienstation.at/event/geoeffnet-10-06-2025/
LOCATION:wienstation\, U-Bahn-Bogen 28\, Wien\, Wien\, 1080\, Austria
CATEGORIES:Daytime
ATTACH;FMTTYPE=image/jpeg:https://wienstation.at/wp-content/uploads/2025/05/wienstation_glasfront_schriftzug-scaled.jpg
ORGANIZER;CN="wienstation":MAILTO:office@wienstation.at
END:VEVENT
BEGIN:VEVENT
DTSTART;TZID=Europe/Vienna:20250611T150000
DTEND;TZID=Europe/Vienna:20250611T150000
DTSTAMP:20260420T014248
CREATED:20250517T090824Z
LAST-MODIFIED:20250517T092845Z
UID:225-1749654000-1749654000@wienstation.at
SUMMARY:Geöffnet - 11.06.2025
DESCRIPTION:
URL:https://wienstation.at/event/geoeffnet-11-06-2025/
LOCATION:wienstation\, U-Bahn-Bogen 28\, Wien\, Wien\, 1080\, Austria
CATEGORIES:Daytime
ATTACH;FMTTYPE=image/jpeg:https://wienstation.at/wp-content/uploads/2025/05/wienstation_glasfront_schriftzug-scaled.jpg
ORGANIZER;CN="wienstation":MAILTO:office@wienstation.at
END:VEVENT
BEGIN:VEVENT
DTSTART;TZID=Europe/Vienna:20250612T150000
DTEND;TZID=Europe/Vienna:20250612T200000
DTSTAMP:20260420T014248
CREATED:20250517T090903Z
LAST-MODIFIED:20250517T092859Z
UID:227-1749740400-1749758400@wienstation.at
SUMMARY:Geöffnet - 12.06.2025
DESCRIPTION:
URL:https://wienstation.at/event/geoeffnet-12-06-2025/
LOCATION:wienstation\, U-Bahn-Bogen 28\, Wien\, Wien\, 1080\, Austria
CATEGORIES:Daytime
ATTACH;FMTTYPE=image/jpeg:https://wienstation.at/wp-content/uploads/2025/05/wienstation_glasfront_schriftzug-scaled.jpg
ORGANIZER;CN="wienstation":MAILTO:office@wienstation.at
END:VEVENT
BEGIN:VEVENT
DTSTART;TZID=Europe/Vienna:20250613T150000
DTEND;TZID=Europe/Vienna:20250613T200000
DTSTAMP:20260420T014248
CREATED:20250517T092012Z
LAST-MODIFIED:20250613T114256Z
UID:229-1749826800-1749844800@wienstation.at
SUMMARY:Geschlossen - 13.06.25
DESCRIPTION:
URL:https://wienstation.at/event/geoeffnet-13-06-2025/
LOCATION:wienstation\, U-Bahn-Bogen 28\, Wien\, Wien\, 1080\, Austria
CATEGORIES:Daytime
ATTACH;FMTTYPE=image/jpeg:https://wienstation.at/wp-content/uploads/2025/05/wienstation_glasfront_schriftzug-scaled.jpg
ORGANIZER;CN="wienstation":MAILTO:office@wienstation.at
END:VEVENT
BEGIN:VEVENT
DTSTART;TZID=Europe/Vienna:20250617T150000
DTEND;TZID=Europe/Vienna:20250617T200000
DTSTAMP:20260420T014248
CREATED:20250517T092546Z
LAST-MODIFIED:20250517T092546Z
UID:237-1750172400-1750190400@wienstation.at
SUMMARY:Geöffnet - 17.06.2025
DESCRIPTION:
URL:https://wienstation.at/event/geoeffnet-17-06-2025/
LOCATION:Wien
CATEGORIES:Daytime
ATTACH;FMTTYPE=image/jpeg:https://wienstation.at/wp-content/uploads/2025/05/wienstation_glasfront_schriftzug-scaled.jpg
END:VEVENT
BEGIN:VEVENT
DTSTART;TZID=Europe/Vienna:20250618T150000
DTEND;TZID=Europe/Vienna:20250618T200000
DTSTAMP:20260420T014248
CREATED:20250517T092646Z
LAST-MODIFIED:20250517T092646Z
UID:239-1750258800-1750276800@wienstation.at
SUMMARY:Geöffnet - 18.06.2025
DESCRIPTION:
URL:https://wienstation.at/event/geoeffnet-18-06-2025/
LOCATION:wienstation\, U-Bahn-Bogen 28\, Wien\, Wien\, 1080\, Austria
CATEGORIES:Daytime
ATTACH;FMTTYPE=image/jpeg:https://wienstation.at/wp-content/uploads/2025/05/wienstation_glasfront_schriftzug-scaled.jpg
ORGANIZER;CN="wienstation":MAILTO:office@wienstation.at
END:VEVENT
BEGIN:VEVENT
DTSTART;TZID=Europe/Vienna:20250619T140000
DTEND;TZID=Europe/Vienna:20250619T180000
DTSTAMP:20260420T014248
CREATED:20250517T071839Z
LAST-MODIFIED:20250619T083302Z
UID:167-1750341600-1750356000@wienstation.at
SUMMARY:wienstation x Kedlkate Channel
DESCRIPTION:wienstation x Kedlkate Channel\n+ DJ Ness T\, El Caliente\, Lizanne\n19.06.2025\n14:00 – 18:00\nhttps://wienstation.at/wp-content/uploads/2025/05/kedlkate_edit_3.mp4\nBitte beachten den [ DISCLAIMER ] wenn du Interesse an diesem Event hast. \nAm Donnerstag von 14–18 Uhr ist es soweit:\nKedlkatechannel goes Wienstation 🎧🎥 \nWir nehmen wieder B2B DJ Sets für YouTube auf – mit dabei:\nDJ Ness T (House)\, Lizanne & El Caliente (Hardgroove zum Abend hin) 🔥 \n📍 Location: Wienstation\n🌿 Mit Chill-Outdoor-Bereich\n🪑 Drinnen: Musik\, Sitzen\, Tanzen\n💧 Zerstäuber für Abkühlung\, falls es heiß ist 😎 \n‼️ Keine Sorge: Es gibt Kamera-freie Bereiche – niemand muss ins Video\, der nicht will. \n🎨 Und: „kaputter“ stellt coole Tattoo-Artworks aus! \n#KKC – DJ Ness T\n \n#KKC – El Caliente\n \n#KKC – Lizanne\n\n[ DISCLAIMER ] Diese Veranstaltung wird live vor Publikum aufgezeichnet\, bei Teilnahme der Veranstaltung wird der Produktion das Recht ein\, Ton-\, Film- und Fotoaufnahmen (nachfolgend „Aufnahmen“ genannt) von meiner Person im Rahmen der gesamten Produktion zu machen und bin damit einverstanden\, dass diese zum genannten Zweck und wie aufgeführt veröffentlicht werden. Aus der Zustimmung zu dieser Veröffentlichung leite ich keine Rechte ab. Ich gestatte dem Produktionsteam das aufgenommene Material unter Wahrung der (Urheber-) Persönlichkeitsrechte ganz oder teilweise zu bearbeiten\, umzugestalten\, zu kürzen\, zu synchronisieren oder in andere Werkformen zu übertragen und zu archivieren. Dieses Recht ist räumlich\, zeitlich und inhaltlich unbeschränkt. Als teilnehmende Person bestätige\, dass alle im Zusammenhang mit den Aufnahmen preisgegebenen personenbezogenen Daten einschließlich Ton/Bild/Ton-Bild-Aufnahmen meiner Person für die Veröffentlichung gedacht sind und ab Veröffentlichung als öffentlich bzw. allgemein verfügbar gelten. Bis zur Veröffentlichung steht mir im gesetzlichen Umfang das Recht auf Auskunft\, Berichtigung\, Löschung\, Einschränkung der Datenverarbeitung\, Datenübertragbarkeit\, Widerspruch und Widerruf zu. [ /DISCLAIMER ]
URL:https://wienstation.at/event/wienstation-x-kedlkate-channel/
LOCATION:wienstation\, U-Bahn-Bogen 28\, Wien\, Wien\, 1080\, Austria
CATEGORIES:Club,Daytime,DJ,Recordingsession
ATTACH;FMTTYPE=image/jpeg:https://wienstation.at/wp-content/uploads/2025/05/keklkatebanner.jpg
END:VEVENT
BEGIN:VEVENT
DTSTART;TZID=Europe/Vienna:20250620T150000
DTEND;TZID=Europe/Vienna:20250620T200000
DTSTAMP:20260420T014248
CREATED:20250517T093016Z
LAST-MODIFIED:20250620T122151Z
UID:247-1750431600-1750449600@wienstation.at
SUMMARY:Geschlossen - 20.06.2025
DESCRIPTION:
URL:https://wienstation.at/event/geoeffnet-20-06-2025/
LOCATION:wienstation\, U-Bahn-Bogen 28\, Wien\, Wien\, 1080\, Austria
CATEGORIES:Daytime
ATTACH;FMTTYPE=image/jpeg:https://wienstation.at/wp-content/uploads/2025/05/wienstation_glasfront_schriftzug-scaled.jpg
ORGANIZER;CN="wienstation":MAILTO:office@wienstation.at
END:VEVENT
BEGIN:VEVENT
DTSTART;TZID=Europe/Vienna:20250624T150000
DTEND;TZID=Europe/Vienna:20250624T200000
DTSTAMP:20260420T014248
CREATED:20250517T093302Z
LAST-MODIFIED:20250626T130427Z
UID:249-1750777200-1750795200@wienstation.at
SUMMARY:Geschlossen - 24.06.2025
DESCRIPTION:
URL:https://wienstation.at/event/geoeffnet-24-06-2025/
LOCATION:wienstation\, U-Bahn-Bogen 28\, Wien\, Wien\, 1080\, Austria
CATEGORIES:Daytime
ATTACH;FMTTYPE=image/jpeg:https://wienstation.at/wp-content/uploads/2025/05/wienstation_glasfront_schriftzug-scaled.jpg
ORGANIZER;CN="wienstation":MAILTO:office@wienstation.at
END:VEVENT
BEGIN:VEVENT
DTSTART;TZID=Europe/Vienna:20250625T150000
DTEND;TZID=Europe/Vienna:20250625T200000
DTSTAMP:20260420T014248
CREATED:20250517T094237Z
LAST-MODIFIED:20250517T094237Z
UID:251-1750863600-1750881600@wienstation.at
SUMMARY:Geöffnet - 25.06.2025
DESCRIPTION:
URL:https://wienstation.at/event/geoeffnet-25-06-2025/
LOCATION:wienstation\, U-Bahn-Bogen 28\, Wien\, Wien\, 1080\, Austria
CATEGORIES:Daytime
ATTACH;FMTTYPE=image/jpeg:https://wienstation.at/wp-content/uploads/2025/05/wienstation_glasfront_schriftzug-scaled.jpg
ORGANIZER;CN="wienstation":MAILTO:office@wienstation.at
END:VEVENT
BEGIN:VEVENT
DTSTART;TZID=Europe/Vienna:20250626T150000
DTEND;TZID=Europe/Vienna:20250626T200000
DTSTAMP:20260420T014248
CREATED:20250517T094325Z
LAST-MODIFIED:20250626T130449Z
UID:253-1750950000-1750968000@wienstation.at
SUMMARY:Geschlossen - 26.06.2025
DESCRIPTION:
URL:https://wienstation.at/event/geoeffnet-26-06-2025/
LOCATION:wienstation\, U-Bahn-Bogen 28\, Wien\, Wien\, 1080\, Austria
CATEGORIES:Daytime
ATTACH;FMTTYPE=image/jpeg:https://wienstation.at/wp-content/uploads/2025/05/wienstation_glasfront_schriftzug-scaled.jpg
ORGANIZER;CN="wienstation":MAILTO:office@wienstation.at
END:VEVENT
BEGIN:VEVENT
DTSTART;TZID=Europe/Vienna:20250627T150000
DTEND;TZID=Europe/Vienna:20250627T200000
DTSTAMP:20260420T014248
CREATED:20250517T094405Z
LAST-MODIFIED:20250626T130506Z
UID:255-1751036400-1751054400@wienstation.at
SUMMARY:Geschlossen - 27.06.2025
DESCRIPTION:
URL:https://wienstation.at/event/geoeffnet-27-06-2025/
LOCATION:wienstation\, U-Bahn-Bogen 28\, Wien\, Wien\, 1080\, Austria
CATEGORIES:Daytime
ATTACH;FMTTYPE=image/jpeg:https://wienstation.at/wp-content/uploads/2025/05/wienstation_glasfront_schriftzug-scaled.jpg
ORGANIZER;CN="wienstation":MAILTO:office@wienstation.at
END:VEVENT
BEGIN:VEVENT
DTSTART;TZID=Europe/Vienna:20250628T190000
DTEND;TZID=Europe/Vienna:20250628T230000
DTSTAMP:20260420T014248
CREATED:20250625T150423Z
LAST-MODIFIED:20250625T162731Z
UID:383-1751137200-1751151600@wienstation.at
SUMMARY:gala#137
DESCRIPTION:julia just \nanalogy of the unspoken von Julia Justanalogy of the unspoken von Julia Just \nmara schwerdtfeger \nCity Pop von MaraCity Pop von Mara \nseretan \nSummer Acoustics von SeretanSummer Acoustics von Seretan \nkindly supported by bmkoes + stadt wien – ma7
URL:https://wienstation.at/event/gala137/
LOCATION:wienstation\, U-Bahn-Bogen 28\, Wien\, Wien\, 1080\, Austria
CATEGORIES:Konzert
ATTACH;FMTTYPE=image/jpeg:https://wienstation.at/wp-content/uploads/2025/06/velak_gala137.jpg
END:VEVENT
BEGIN:VEVENT
DTSTART;VALUE=DATE:20250630
DTEND;VALUE=DATE:20250902
DTSTAMP:20260420T014248
CREATED:20250517T090258Z
LAST-MODIFIED:20250626T130836Z
UID:221-1751241600-1756771199@wienstation.at
SUMMARY:Geschlossen | Sommerpause | 30.06 - 30.08.25
DESCRIPTION:
URL:https://wienstation.at/event/geschlossen-sommerpause-300625_010925/
LOCATION:Wien
ATTACH;FMTTYPE=image/jpeg:https://wienstation.at/wp-content/uploads/2025/05/wienstation_glasfront_schriftzug-scaled.jpg
END:VEVENT
END:VCALENDAR