BEGIN:VCALENDAR
VERSION:2.0
PRODID:-//wienstation - ECPv6.15.18//NONSGML v1.0//EN
CALSCALE:GREGORIAN
METHOD:PUBLISH
X-WR-CALNAME:wienstation
X-ORIGINAL-URL:https://wienstation.at
X-WR-CALDESC:Veranstaltungen für wienstation
REFRESH-INTERVAL;VALUE=DURATION:PT1H
X-Robots-Tag:noindex
X-PUBLISHED-TTL:PT1H
BEGIN:VTIMEZONE
TZID:Europe/Vienna
BEGIN:DAYLIGHT
TZOFFSETFROM:+0100
TZOFFSETTO:+0200
TZNAME:CEST
DTSTART:20240331T010000
END:DAYLIGHT
BEGIN:STANDARD
TZOFFSETFROM:+0200
TZOFFSETTO:+0100
TZNAME:CET
DTSTART:20241027T010000
END:STANDARD
BEGIN:DAYLIGHT
TZOFFSETFROM:+0100
TZOFFSETTO:+0200
TZNAME:CEST
DTSTART:20250330T010000
END:DAYLIGHT
BEGIN:STANDARD
TZOFFSETFROM:+0200
TZOFFSETTO:+0100
TZNAME:CET
DTSTART:20251026T010000
END:STANDARD
BEGIN:DAYLIGHT
TZOFFSETFROM:+0100
TZOFFSETTO:+0200
TZNAME:CEST
DTSTART:20260329T010000
END:DAYLIGHT
BEGIN:STANDARD
TZOFFSETFROM:+0200
TZOFFSETTO:+0100
TZNAME:CET
DTSTART:20261025T010000
END:STANDARD
END:VTIMEZONE
BEGIN:VEVENT
DTSTART;TZID=Europe/Vienna:20251204T170000
DTEND;TZID=Europe/Vienna:20251204T220000
DTSTAMP:20260419T163247
CREATED:20251203T133026Z
LAST-MODIFIED:20251203T133026Z
UID:519-1764867600-1764885600@wienstation.at
SUMMARY:# 7 Der Donnerstag /w Kate La Boom & Ness T
DESCRIPTION:Kate la Boom · Boomsfallera (Happy new Year)\n \nNESS T · fragments of proggy electro
URL:https://wienstation.at/event/7-der-donnerstag-w-kate-la-boom-ness-t/
LOCATION:wienstation\, U-Bahn-Bogen 28\, Wien\, Wien\, 1080\, Austria
CATEGORIES:Der Donnerstag,DJ
ORGANIZER;CN="wienstation":MAILTO:office@wienstation.at
END:VEVENT
BEGIN:VEVENT
DTSTART;TZID=Europe/Vienna:20251211T170000
DTEND;TZID=Europe/Vienna:20251211T220000
DTSTAMP:20260419T163247
CREATED:20251211T172539Z
LAST-MODIFIED:20251211T172539Z
UID:523-1765472400-1765490400@wienstation.at
SUMMARY:#8 Der Donnerstag /w Suri & Jukebox Utopia
DESCRIPTION:
URL:https://wienstation.at/event/8-der-donnerstag-w-suri-jukebox-utopia/
LOCATION:wienstation\, U-Bahn-Bogen 28\, Wien\, Wien\, 1080\, Austria
CATEGORIES:Der Donnerstag,DJ
ORGANIZER;CN="wienstation":MAILTO:office@wienstation.at
END:VEVENT
BEGIN:VEVENT
DTSTART;VALUE=DATE:20251218
DTEND;VALUE=DATE:20251219
DTSTAMP:20260419T163247
CREATED:20251218T063123Z
LAST-MODIFIED:20251218T063123Z
UID:525-1766016000-1766102399@wienstation.at
SUMMARY:Heute geschlossen!
DESCRIPTION:Aus gesundheitlichen Gründen bleibt die wienstation heute geschlossen!
URL:https://wienstation.at/event/heute-geschlossen/
LOCATION:wienstation\, U-Bahn-Bogen 28\, Wien\, Wien\, 1080\, Austria
ORGANIZER;CN="wienstation":MAILTO:office@wienstation.at
END:VEVENT
END:VCALENDAR