BEGIN:VCALENDAR
VERSION:2.0
PRODID:-//wienstation - ECPv6.15.18//NONSGML v1.0//EN
CALSCALE:GREGORIAN
METHOD:PUBLISH
X-ORIGINAL-URL:https://wienstation.at
X-WR-CALDESC:Veranstaltungen für wienstation
REFRESH-INTERVAL;VALUE=DURATION:PT1H
X-Robots-Tag:noindex
X-PUBLISHED-TTL:PT1H
BEGIN:VTIMEZONE
TZID:Europe/Vienna
BEGIN:DAYLIGHT
TZOFFSETFROM:+0100
TZOFFSETTO:+0200
TZNAME:CEST
DTSTART:20240331T010000
END:DAYLIGHT
BEGIN:STANDARD
TZOFFSETFROM:+0200
TZOFFSETTO:+0100
TZNAME:CET
DTSTART:20241027T010000
END:STANDARD
BEGIN:DAYLIGHT
TZOFFSETFROM:+0100
TZOFFSETTO:+0200
TZNAME:CEST
DTSTART:20250330T010000
END:DAYLIGHT
BEGIN:STANDARD
TZOFFSETFROM:+0200
TZOFFSETTO:+0100
TZNAME:CET
DTSTART:20251026T010000
END:STANDARD
BEGIN:DAYLIGHT
TZOFFSETFROM:+0100
TZOFFSETTO:+0200
TZNAME:CEST
DTSTART:20260329T010000
END:DAYLIGHT
BEGIN:STANDARD
TZOFFSETFROM:+0200
TZOFFSETTO:+0100
TZNAME:CET
DTSTART:20261025T010000
END:STANDARD
END:VTIMEZONE
BEGIN:VEVENT
DTSTART;TZID=Europe/Vienna:20250528T223000
DTEND;TZID=Europe/Vienna:20250529T030000
DTSTAMP:20260420T085635
CREATED:20250517T065657Z
LAST-MODIFIED:20250517T065657Z
UID:162-1748471400-1748487600@wienstation.at
SUMMARY:GÜRTEL CONNECTION #16
DESCRIPTION:Gürtel Connection\n= Über 50 Acts & DJs\, 14 Locations\, 1 Eintritt:\n(Freiwillige Spende) und obendrein noch für einen guten Zweck. \n20:30\nDoors \n21:00 – 00:00\nDJ Vorhaut b2b CDJ Apocalypso Mike \n00:00 – 02:00\nMareia \n02:00 – ???\nFONK \n\nteilnehmende Lokale: \n\nThe Loft\nFanialive\nGürtelbräu Wien\nLoop Wien\nwienstation\nChelsea\nCOCO Bar\nWeberknecht\nRoter Bogen\nRhiz Vienna\nKramladen\nCafe Concerto\nCafé Carina\nB72
URL:https://wienstation.at/event/guertel-connection-16/
LOCATION:wienstation\, U-Bahn-Bogen 28\, Wien\, Wien\, 1080\, Austria
CATEGORIES:Club,DJ
ATTACH;FMTTYPE=image/jpeg:https://wienstation.at/wp-content/uploads/2025/05/guertelconnection_16_flyer.jpg
END:VEVENT
END:VCALENDAR